BEGIN:VCALENDAR
VERSION:2.0
PRODID:-//https://www.tngcentre.org///NONSGML kigkonsult.se iCalcreator 2.10.15//
METHOD:PUBLISH
BEGIN:VEVENT
UID:20260423T155613EDT-2229PlLi0U@https://www.tngcentre.org/
DTSTAMP:20260423T195613Z
DESCRIPTION:Is ‘Karma’ Consequential?\nLord Buddha Sakyamuni taught that ev
 ery creature has transmigrated helplessly since beginningless time under t
 he influence of ignorance. https://www.tngcentre.org/en/tng-office/office/
 on-going-events/event/120-karma
DTSTART:20260523T220000Z
DTEND:20260531T103500Z
LOCATION:Theg-Chog Norbu Ling® (Domaine du Moulin\, Chemin des Héritiers\, 
  11190 FOURTOU\, France)
SUMMARY:KARMA
URL:https://www.tngcentre.org/en/tng-office/office/on-going-events/event/12
 0-karma
END:VEVENT
END:VCALENDAR
